Workbook
Name Área_de_Impressão: 'MATRIZ GUT'!$A$1:$L$13
Name AtividadesDestaque: 'MATRIZ GUT'!#REF!
Name DestaquesAFazer: #REF!
Name Redefinir_Área_Impressão: OFFSET('MATRIZ GUT'!$A:$L,0,0,COUNTA('MATRIZ GUT'!$B:$B)+5)
Name valInícioD: #REF!
Name valTérminoD: #REF!

Sheet CONFIGURAÇÕES
A2: Gravidade | B2: #
A3: 1 - Sem gravidade | B3: 1
A4: 2 - Pouco grave | B4: 2
A5: 3 - Grave | B5: 3
A6: 4 - Muito grave | B6: 4
A7: 5 - Extremamente grave | B7: 5
A8: 1 | B8: 1
A9: 2 | B9: 2
A10: 3 | B10: 3
A11: 4 | B11: 4
A12: 5 | B12: 5
A14: Urgência | B14: #
A15: 1 - Longo prazo | B15: 1
A16: 2 - Bastante prazo | B16: 2
A17: 3 - Médio prazo | B17: 3
A18: 4 - Curto prazo | B18: 4
A19: 5 - O quanto antes | B19: 5
A20: 1 | B20: 1
A21: 2 | B21: 2
A22: 3 | B22: 3
A23: 4 | B23: 4
A24: 5 | B24: 5
A26: Tendência | B26: #
A27: 1 - Não piora | B27: 1
A28: 2 - Piora a longo prazo | B28: 2
A29: 3 - Piora a médio prazo | B29: 3
A30: 4 - Piora a curto prazo | B30: 4
A31: 5 - Piora rapidamente | B31: 5
A32: 1 | B32: 1
A33: 2 | B33: 2
A34: 3 | B34: 3
A35: 4 | B35: 4
A36: 5 | B36: 5
A39: Situação
A40: A fazer
A41: Fazendo
A42: Feito

Sheet MATRIZ GUT
B3: Matriz GUT
B5: Responsável | D5: Envolvidos na priorização | H5: Data da priorização
B6: Dark Souls | D6: Time Dark Souls e Equipe Fhemeron | H6: =TODAY()+0 -> 44356
B8: Processos (finalísticos) | C8: Breve descrição (porque este processo estão sendo priorizados?) | D8: Responsável | E8: Data de início | F8: Data de término | G8: Gravidade | H8: Urgência | I8: Tendência | J8: GUT | K8: Ordem calculada | L8: Qual o grau de dor você sente nesse processo?
B9: Gestão de Laboratório | C9: rastriabilidade, poucos funcionários (há meses que fica um baixo número de funcinários), transparência, produtividade do setor (indicadores, estátisticas, relatórios), comunicação entre os setores | D9: Kelly - Processamento, Deisiane - imunohematologia, Camila Lamara - Sorologia, Antônio Marcos - Controle de Qualidade, Jaqueline da silva - Agencia Transfusional | E9: =TODAY() -> 44356 | F9: =TODAY()+7 -> 44363 | G9: 5 - Extremamente grave | H9: 5 - O quanto antes | I9: 4 - Piora a curto prazo | J9: =IFERROR(VLOOKUP(tblListaTarefas[[#This Row],[Gravidade]],CONFIGURAÇÕES!A:B,2,0)*VLOOKUP(tblListaTarefas[[#This Row],[Urgência]],CONFIGURAÇÕES!A:B,2,0)*VLOOKUP(tblListaTarefas[[#This Row],[Tendência]],CONFIGURAÇÕES!A:B,2,0),0) -> 100 | K9: =_xlfn.RANK.EQ(J9,tblListaTarefas[GUT]) -> 1 | L9: 3 - Grave
B10: Gestão de Doação de Sangue | C10: É necessário para ter acesso a ficha de doadores, acompanhar o processo de doação, historico de doação (tipo de sangue, fenotipagem, listagem de convocação, historico de reativos), convocação em massa de doadores | D10: Captação de Doadores - Maria Luiza | E10: =TODAY() -> 44356 | F10: =TODAY()+7 -> 44363 | G10: 4 - Muito grave | H10: 5 - O quanto antes | I10: 4 - Piora a curto prazo | J10: =IFERROR(VLOOKUP(tblListaTarefas[[#This Row],[Gravidade]],CONFIGURAÇÕES!A:B,2,0)*VLOOKUP(tblListaTarefas[[#This Row],[Urgência]],CONFIGURAÇÕES!A:B,2,0)*VLOOKUP(tblListaTarefas[[#This Row],[Tendência]],CONFIGURAÇÕES!A:B,2,0),0) -> 80 | K10: =_xlfn.RANK.EQ(J10,tblListaTarefas[GUT]) -> 2 | L10: 4 - Muito grave
B11: Gestão de Transfusão de Sangue | C11: Esse processo é resposabilidade solidária da Fhemeron e não possui nenhum sistema de gestão, atualmente é feito manualmente em ferramentas excel (um a um). | D11: Agência Transfusional - Jakeline da Silva | E11: =TODAY() -> 44356 | F11: =TODAY()+7 -> 44363 | G11: 4 - Muito grave | H11: 4 - Curto prazo | I11: 4 - Piora a curto prazo | J11: =IFERROR(VLOOKUP(tblListaTarefas[[#This Row],[Gravidade]],CONFIGURAÇÕES!A:B,2,0)*VLOOKUP(tblListaTarefas[[#This Row],[Urgência]],CONFIGURAÇÕES!A:B,2,0)*VLOOKUP(tblListaTarefas[[#This Row],[Tendência]],CONFIGURAÇÕES!A:B,2,0),0) -> 64 | K11: =_xlfn.RANK.EQ(J11,tblListaTarefas[GUT]) -> 3 | L11: 4 - Muito grave
B12: Gestão de Distribuição de Bolsas de Sangue e Derivados | C12: Perde a rastriabilidade do processo, pois não possui historico de rastriabilidade | D12: Biomédica Kelly Régia | E12: =TODAY() -> 44356 | F12: =TODAY()+7 -> 44363 | G12: 4 - Muito grave | H12: 3 - Médio prazo | I12: 3 - Piora a médio prazo | J12: =IFERROR(VLOOKUP(tblListaTarefas[[#This Row],[Gravidade]],CONFIGURAÇÕES!A:B,2,0)*VLOOKUP(tblListaTarefas[[#This Row],[Urgência]],CONFIGURAÇÕES!A:B,2,0)*VLOOKUP(tblListaTarefas[[#This Row],[Tendência]],CONFIGURAÇÕES!A:B,2,0),0) -> 36 | K12: =_xlfn.RANK.EQ(J12,tblListaTarefas[GUT]) -> 4 | L12: 2 - Pouco grave
B13: Gestão de Recepção dos Doadores | C13: É onde se inicia o cadastro de doadores e precisa dos dados dos doadores (nome, cpf, endereço....) | D13: Enfermagem - Maria Irenir Sousa | E13: =TODAY() -> 44356 | F13: =TODAY()+7 -> 44363 | G13: 3 - Grave | H13: 3 - Médio prazo | I13: 3 - Piora a médio prazo | J13: =IFERROR(VLOOKUP(tblListaTarefas[[#This Row],[Gravidade]],CONFIGURAÇÕES!A:B,2,0)*VLOOKUP(tblListaTarefas[[#This Row],[Urgência]],CONFIGURAÇÕES!A:B,2,0)*VLOOKUP(tblListaTarefas[[#This Row],[Tendência]],CONFIGURAÇÕES!A:B,2,0),0) -> 27 | K13: =_xlfn.RANK.EQ(J13,tblListaTarefas[GUT]) -> 5 | L13: 3 - Grave
B14: Gestão de Atendimento Especializado para os pacientes | C14: Estão utilizando o sistema do Hospub que é do HB e a Fhemeron não tem autonômia, a priorização desse processo é necessária devido ao agendamento de consultas, onde passa os exames necessários. | D14: Ambulatorio de Hemotologia Dra. Daniele Fontes e Dra. Ana Carolina Gonzaga | E14: =TODAY() -> 44356 | F14: =TODAY()+7 -> 44363 | G14: 2 - Pouco grave | H14: 3 - Médio prazo | I14: 1 - Não piora | J14: =IFERROR(VLOOKUP(tblListaTarefas[[#This Row],[Gravidade]],CONFIGURAÇÕES!A:B,2,0)*VLOOKUP(tblListaTarefas[[#This Row],[Urgência]],CONFIGURAÇÕES!A:B,2,0)*VLOOKUP(tblListaTarefas[[#This Row],[Tendência]],CONFIGURAÇÕES!A:B,2,0),0) -> 6 | K14: =_xlfn.RANK.EQ(J14,tblListaTarefas[GUT]) -> 6 | L14: 4 - Muito grave
B15: Gestão de Cadastro de Pessoas Doadoras de Médula Óssea | C15: Já tem um portal para cadastrar o doares - REDOME (registro brasileiro de médula ossea)- Fhemeron participa como cliente | D15: Captação de Doadores - Maria Luiza | E15: =TODAY() -> 44356 | F15: =TODAY()+7 -> 44363 | G15: 2 - Pouco grave | H15: 1 - Longo prazo | I15: 2 - Piora a longo prazo | J15: =IFERROR(VLOOKUP(tblListaTarefas[[#This Row],[Gravidade]],CONFIGURAÇÕES!A:B,2,0)*VLOOKUP(tblListaTarefas[[#This Row],[Urgência]],CONFIGURAÇÕES!A:B,2,0)*VLOOKUP(tblListaTarefas[[#This Row],[Tendência]],CONFIGURAÇÕES!A:B,2,0),0) -> 4 | K15: =_xlfn.RANK.EQ(J15,tblListaTarefas[GUT]) -> 7 | L15: 4 - Muito grave

Sheet Planilha1
A3: 1 - Baixo
A4: 3 - Médio
A5: 5 - Alto
